BEGIN:VCALENDAR
VERSION:2.0
PRODID:-//Protechtor //NONSGML Events //EN
CALSCALE:GREGORIAN
X-WR-CALNAME:Protechtor: Events
BEGIN:VEVENT
CREATED:20210429T140000Z
UID:1036
DTEND;VALUE=DATE:20210429T153000Z
TRANSP:OPAQUE
SUMMARY:E-commerce Technology Vol. 4. / Protechtor
DTSTART;VALUE=DATE:20210429T120000Z
DTSTAMP:20210429T140000Z
LOCATION:https://protechtor.io/esemenyek/e-commerce/e-commerce-technology-vol-4
DESCRIPTION:Szeretettel meghívunk a Stylers Group és a Braining Hub szervezésében megrendezésre kerülő ProTechtor E-commerce Technology eseményünkre.

A workshopon célközönsége a vállalati fejlesztői csapatok, de az üzleti oldal is értékes tapasztalatokra és hasznos tudásra tehet szert.

&nbsp;

Program:

14:00 - 15:35 Kovács Balázs: Microservice architektúra alapok

A microservice architektúra mára egy felkapott, divatos fogalommá lett, melyet sokan az alkalmazástervezés bölcsek köveként kezelnek. Vajon mi van a hype mögött, érdemes-e váltanunk - vagy nem ilyen egyszerű a helyzet? Ez az előadás igyekszik végigvezetni azon a gondolatmeneten, mely elvezet a microservice-ek népszerűségéig, és felfedni azokat a buktatókat, amelyek ennél az architektúránál jelentkezhetnek. Bár főként technológiai oldalról elemezzük a lehetséges megoldásokat egy webshop példáján keresztül, de az előadáson a projektmanagerek is sok jó tanácsot kapnak a microservice fejlesztés munkaszervezésre gyakorolt hatásairól.

15:35 - 15:50 Szünet

15:50 - 17:20 Novák István: Vízesés és agilis fejlesztési szemléletek — mindkettőre szükség van?

Az utóbbi években az érdeklődés középpontjába kerültek az agilis módszerek, megközelítésmód. Sokszor ezek előnyeit a vízesés modellel szembeállítva próbálják megvilágítani.  Ebben az előadásban megismerheted a két markánsan eltérő szemlélet erősségeit és gyengeségeit — elsősorban az őket használó szervezetek, projektek és csapatok szemszögéből. Tippeket kaphatsz arra, hogy az egyes módszerek mely elemei lehetnek hasznosak számodra egy adott környezetben. Megtanulhatod, melyek azok az apró trükkök és praktikák, amelyek hatékonyabbá és kiszámíthatóbbá tehetik csapatod mindennapi életét és segítenek a kevésbé stresszes munkában. Az előadás során lehetőséged lesz arra, hogy kérdéseket tegyél fel az előadónak, illetve egyes témákat akár a többi résztvevővel együtt megvitathass.

17:20 - 17:30 Technikai információk, következő esemény tudnivalói

&nbsp;

Az eseményen való részvétel ingyenes, de regisztrációhoz kötött.
ORGANIZER:Protechtor
URL;VALUE=URI:https://protechtor.io/esemenyek/e-commerce/e-commerce-technology-vol-4
BEGIN:VALARM
ACTION:DISPLAY
DESCRIPTION:
END:VALARM
END:VEVENT
END:VCALENDAR
