BEGIN:VCALENDAR
VERSION:2.0
PRODID:-//Protechtor //NONSGML Events //EN
CALSCALE:GREGORIAN
X-WR-CALNAME:Protechtor: Events
BEGIN:VEVENT
CREATED:20230928T180000Z
UID:4053
DTEND;VALUE=DATE:20230928T170000Z
TRANSP:OPAQUE
SUMMARY:Business Operations: Az adatalapú vezetői működés mibenléte / Protechtor
DTSTART;VALUE=DATE:20230928T160000Z
DTSTAMP:20230928T180000Z
LOCATION:https://protechtor.io/esemenyek/business/business-operations-az-adatalapu-vezetoi-mukodes-mibenlete
DESCRIPTION:Léder Tamás (Revolut) és Patai Zoltán (Flawless) nem csak értik az adatok fontosságát az üzleti folyamatokban, de mélyen integrálták azt a vezetői működésükbe is. De mit jelent a gyakorlatban az adatalapú vezetői működés és milyen feltételek mentés valóshítható meg szervezeti oldalról? Hogyan használjuk és támaszkodjunk okosan az adatokra a döntéshozatal során, és hogyan teremtsünk olyan vállalati környezetet, ami lehetővé teszi a belső és külső folyamatok mérhetőségét?

Vendégeinkkel a személyes és üzleti tapasztalatin keresztül beszélgettünk az adatalapúság mibenlétéről, és próbáltunk számos olyan hasznos aspektust felfejteni, ami segítheti a hatékonyabb és jobb vezetői működés elérésében.

Légy részese elsőként a tudásáramlásnak és jelentkezz az interjú premier bemutatójára! A részvétel díjmentes, de regisztrációhoz kötött.
ORGANIZER:Protechtor
URL;VALUE=URI:https://protechtor.io/esemenyek/business/business-operations-az-adatalapu-vezetoi-mukodes-mibenlete
BEGIN:VALARM
ACTION:DISPLAY
DESCRIPTION:
END:VALARM
END:VEVENT
END:VCALENDAR
